BEGIN:VCALENDAR
VERSION:2.0
PRODID:-//DIGITAL FACTORY//EVENTS MAKER V1.6.14//EN
CALSCALE:GREGORIAN
BEGIN:VEVENT
DTEND:20181122T133000Z
UID:69e4c9dc1bd2c
DTSTAMP:20260419T122604Z
CATEGORIES:Lunch pod biurowcem
LOCATION:Kotrak Parczewskiego 25, Katowice, śląskie, 40-582, PL
DESCRIPTION:
URL;VALUE=URI:https://montowniasmakuizdrowia.pl/wydarzenia/wydarzenie/montujemy-lunch-pod-biurowcem-85/
SUMMARY:Montujemy lunch pod biurowcem
DTSTART:20181122T100000Z
END:VEVENT
END:VCALENDAR
